BEGIN:VCALENDAR
VERSION:2.0
PRODID:-//RISE Therapeutic Equestrian Center - ECPv6.15.20//NONSGML v1.0//EN
CALSCALE:GREGORIAN
METHOD:PUBLISH
X-WR-CALNAME:RISE Therapeutic Equestrian Center
X-ORIGINAL-URL:https://riserehab.org
X-WR-CALDESC:Events for RISE Therapeutic Equestrian Center
REFRESH-INTERVAL;VALUE=DURATION:PT1H
X-Robots-Tag:noindex
X-PUBLISHED-TTL:PT1H
BEGIN:VTIMEZONE
TZID:America/Chicago
BEGIN:DAYLIGHT
TZOFFSETFROM:-0600
TZOFFSETTO:-0500
TZNAME:CDT
DTSTART:20220313T080000
END:DAYLIGHT
BEGIN:STANDARD
TZOFFSETFROM:-0500
TZOFFSETTO:-0600
TZNAME:CST
DTSTART:20221106T070000
END:STANDARD
BEGIN:DAYLIGHT
TZOFFSETFROM:-0600
TZOFFSETTO:-0500
TZNAME:CDT
DTSTART:20230312T080000
END:DAYLIGHT
BEGIN:STANDARD
TZOFFSETFROM:-0500
TZOFFSETTO:-0600
TZNAME:CST
DTSTART:20231105T070000
END:STANDARD
BEGIN:DAYLIGHT
TZOFFSETFROM:-0600
TZOFFSETTO:-0500
TZNAME:CDT
DTSTART:20240310T080000
END:DAYLIGHT
BEGIN:STANDARD
TZOFFSETFROM:-0500
TZOFFSETTO:-0600
TZNAME:CST
DTSTART:20241103T070000
END:STANDARD
BEGIN:DAYLIGHT
TZOFFSETFROM:-0600
TZOFFSETTO:-0500
TZNAME:CDT
DTSTART:20250309T080000
END:DAYLIGHT
BEGIN:STANDARD
TZOFFSETFROM:-0500
TZOFFSETTO:-0600
TZNAME:CST
DTSTART:20251102T070000
END:STANDARD
END:VTIMEZONE
BEGIN:VTIMEZONE
TZID:America/New_York
BEGIN:DAYLIGHT
TZOFFSETFROM:-0500
TZOFFSETTO:-0400
TZNAME:EDT
DTSTART:20240310T070000
END:DAYLIGHT
BEGIN:STANDARD
TZOFFSETFROM:-0400
TZOFFSETTO:-0500
TZNAME:EST
DTSTART:20241103T060000
END:STANDARD
BEGIN:DAYLIGHT
TZOFFSETFROM:-0500
TZOFFSETTO:-0400
TZNAME:EDT
DTSTART:20250309T070000
END:DAYLIGHT
BEGIN:STANDARD
TZOFFSETFROM:-0400
TZOFFSETTO:-0500
TZNAME:EST
DTSTART:20251102T060000
END:STANDARD
BEGIN:DAYLIGHT
TZOFFSETFROM:-0500
TZOFFSETTO:-0400
TZNAME:EDT
DTSTART:20260308T070000
END:DAYLIGHT
BEGIN:STANDARD
TZOFFSETFROM:-0400
TZOFFSETTO:-0500
TZNAME:EST
DTSTART:20261101T060000
END:STANDARD
END:VTIMEZONE
BEGIN:VEVENT
DTSTART;VALUE=DATE:20230728
DTEND;VALUE=DATE:20230729
DTSTAMP:20260424T062509
CREATED:20230327T170016Z
LAST-MODIFIED:20230821T112541Z
UID:2741-1690502400-1690588799@riserehab.org
SUMMARY:End of Summer Session
DESCRIPTION:End  of RISE’s summer session
URL:https://riserehab.org/event/end-of-summer-session/
LOCATION:TX
END:VEVENT
BEGIN:VEVENT
DTSTART;TZID=America/Chicago:20230909T100000
DTEND;TZID=America/Chicago:20230909T123000
DTSTAMP:20260424T062509
CREATED:20230327T170317Z
LAST-MODIFIED:20230821T112535Z
UID:2745-1694253600-1694262600@riserehab.org
SUMMARY:Volunteer Training
DESCRIPTION:RISE’s volunteer training
URL:https://riserehab.org/event/volunteer-training/
LOCATION:RISE Rehab\, 23165 Bat Cave Road\, San Antonio\, TX\, 78266\, United States
END:VEVENT
BEGIN:VEVENT
DTSTART;VALUE=DATE:20230911
DTEND;VALUE=DATE:20230912
DTSTAMP:20260424T062509
CREATED:20230327T170143Z
LAST-MODIFIED:20230821T112530Z
UID:2743-1694390400-1694476799@riserehab.org
SUMMARY:Start of Fall Session
DESCRIPTION:Start of RISE’s fall session.
URL:https://riserehab.org/event/start-of-fall-session/
LOCATION:RISE Rehab\, 23165 Bat Cave Road\, San Antonio\, TX\, 78266\, United States
END:VEVENT
BEGIN:VEVENT
DTSTART;TZID=America/Chicago:20231007T090000
DTEND;TZID=America/Chicago:20231007T120000
DTSTAMP:20260424T062509
CREATED:20230327T170623Z
LAST-MODIFIED:20230821T112523Z
UID:2747-1696669200-1696680000@riserehab.org
SUMMARY:RISE and Shine Open House
DESCRIPTION:RISE and Shine Open House! Come meet the staff and horses of RISE
URL:https://riserehab.org/event/rise-and-shine-open-house/
LOCATION:TX
END:VEVENT
BEGIN:VEVENT
DTSTART;TZID=America/Chicago:20231104T170000
DTEND;TZID=America/Chicago:20231104T230000
DTSTAMP:20260424T062509
CREATED:20230327T162610Z
LAST-MODIFIED:20230821T112513Z
UID:2723-1699117200-1699138800@riserehab.org
SUMMARY:Cowboys and Caverns
DESCRIPTION:Cowboys and caverns sponsors\n			cowboys and caverns sponsors\n	\n																										 \nOur annual fundraiser  held a few miles from RISE at the beautiful natural bridge caverns. Join us for an evening under the stars and help to support RISE.
URL:https://riserehab.org/event/cowboys-and-caverns/
LOCATION:Natural Bridge Caverns\, 26495 Natural Bridge Caverns Rd\, San Antonio\, Texas\, 78266
END:VEVENT
BEGIN:VEVENT
DTSTART;TZID=America/Chicago:20231120T080000
DTEND;TZID=America/Chicago:20231124T170000
DTSTAMP:20260424T062509
CREATED:20230327T170801Z
LAST-MODIFIED:20230821T112506Z
UID:2749-1700467200-1700845200@riserehab.org
SUMMARY:RISE Closed
DESCRIPTION:RISE will be closed for Thanksgiving break
URL:https://riserehab.org/event/rise-closed/
LOCATION:RISE Rehab\, 23165 Bat Cave Road\, San Antonio\, TX\, 78266\, United States
END:VEVENT
BEGIN:VEVENT
DTSTART;VALUE=DATE:20231215
DTEND;VALUE=DATE:20231216
DTSTAMP:20260424T062509
CREATED:20230327T170911Z
LAST-MODIFIED:20230821T112501Z
UID:2751-1702598400-1702684799@riserehab.org
SUMMARY:End of fall session
DESCRIPTION:End of RISE’s fall session
URL:https://riserehab.org/event/end-of-fall-session/
LOCATION:RISE Rehab\, 23165 Bat Cave Road\, San Antonio\, TX\, 78266\, United States
END:VEVENT
BEGIN:VEVENT
DTSTART;TZID=America/Chicago:20231216T080000
DTEND;TZID=America/Chicago:20240107T170000
DTSTAMP:20260424T062509
CREATED:20230327T171029Z
LAST-MODIFIED:20230821T112455Z
UID:2753-1702713600-1704646800@riserehab.org
SUMMARY:RISE Closed
DESCRIPTION:RISE will be closed for winter break
URL:https://riserehab.org/event/rise-closed-2/
LOCATION:RISE Rehab\, 23165 Bat Cave Road\, San Antonio\, TX\, 78266\, United States
END:VEVENT
BEGIN:VEVENT
DTSTART;VALUE=DATE:20240109
DTEND;VALUE=DATE:20240110
DTSTAMP:20260424T062509
CREATED:20230327T163229Z
LAST-MODIFIED:20230821T112450Z
UID:2726-1704758400-1704844799@riserehab.org
SUMMARY:Spring Session Begins
DESCRIPTION:Start of RISE’s spring session
URL:https://riserehab.org/event/spring-session-begins/
LOCATION:RISE Rehab\, 23165 Bat Cave Road\, San Antonio\, TX\, 78266\, United States
END:VEVENT
BEGIN:VEVENT
DTSTART;TZID=America/New_York:20251108T183000
DTEND;TZID=America/New_York:20251108T220000
DTSTAMP:20260424T062509
CREATED:20250717T142843Z
LAST-MODIFIED:20250724T133402Z
UID:3219-1762626600-1762639200@riserehab.org
SUMMARY:Rise 10 Year Celebration!
DESCRIPTION:Please come join us for Rise Therapeutic Equestrian Center’s 10 Year Celebration! \n\nTickets include a Fajita meal\nDoors open at 6:30 PM\, Dinner at 7:00 PM
URL:https://riserehab.org/event/rise-10-year-celebration/
LOCATION:Garden Ridge Community Center\, 9400 Municipal Parkway\, San Antonio\, TX\, 78266\, United States
ATTACH;FMTTYPE=image/png:https://riserehab.org/wp-content/uploads/2025/07/10-year-Celebration.png
END:VEVENT
END:VCALENDAR